BEGIN:VCALENDAR
VERSION:2.0
PRODID:-//Visit Leadville Twin Lakes - ECPv6.15.16//NONSGML v1.0//EN
CALSCALE:GREGORIAN
METHOD:PUBLISH
X-ORIGINAL-URL:https://www.leadvilletwinlakes.com
X-WR-CALDESC:Events for Visit Leadville Twin Lakes
REFRESH-INTERVAL;VALUE=DURATION:PT1H
X-Robots-Tag:noindex
X-PUBLISHED-TTL:PT1H
BEGIN:VTIMEZONE
TZID:America/Denver
BEGIN:DAYLIGHT
TZOFFSETFROM:-0700
TZOFFSETTO:-0600
TZNAME:MDT
DTSTART:20240310T090000
END:DAYLIGHT
BEGIN:STANDARD
TZOFFSETFROM:-0600
TZOFFSETTO:-0700
TZNAME:MST
DTSTART:20241103T080000
END:STANDARD
BEGIN:DAYLIGHT
TZOFFSETFROM:-0700
TZOFFSETTO:-0600
TZNAME:MDT
DTSTART:20250309T090000
END:DAYLIGHT
BEGIN:STANDARD
TZOFFSETFROM:-0600
TZOFFSETTO:-0700
TZNAME:MST
DTSTART:20251102T080000
END:STANDARD
BEGIN:DAYLIGHT
TZOFFSETFROM:-0700
TZOFFSETTO:-0600
TZNAME:MDT
DTSTART:20260308T090000
END:DAYLIGHT
BEGIN:STANDARD
TZOFFSETFROM:-0600
TZOFFSETTO:-0700
TZNAME:MST
DTSTART:20261101T080000
END:STANDARD
END:VTIMEZONE
BEGIN:VEVENT
DTSTART;TZID=America/Denver:20251202T183000
DTEND;TZID=America/Denver:20251202T203000
DTSTAMP:20260422T044848
CREATED:20260320T174107Z
LAST-MODIFIED:20260320T174107Z
UID:10001010-1764700200-1764707400@www.leadvilletwinlakes.com
SUMMARY:Ski & Board Wax Night at the Lake County Public Library
DESCRIPTION:Come to the Lake County Public Library to get your equipment prepared for the season! \nMatt will give a demo closer to 6:30 for those who would like to learn how to hot wax their skis or board. Or if you already know how drop in between 6:30 and 8:30 for DIY ski and board waxing in the AMAX Room. All wax and waxing equipment will be supplied by the Library and there will be popcorn and tea!
URL:https://www.leadvilletwinlakes.com/event/ski-board-wax-night-at-the-lake-county-public-library/
LOCATION:Lake County Public Library\, 1115 Harrison Ave\, Leadville\, CO\, 80461\, United States
CATEGORIES:Classes & Programs
ATTACH;FMTTYPE=image/png:https://www.leadvilletwinlakes.com/wp-content/uploads/2025/11/ski-wax-night-2025.png
END:VEVENT
BEGIN:VEVENT
DTSTART;TZID=America/Denver:20251206T173000
DTEND;TZID=America/Denver:20251206T173000
DTSTAMP:20260422T044848
CREATED:20260320T174107Z
LAST-MODIFIED:20260320T174107Z
UID:10001007-1765042200-1765042200@www.leadvilletwinlakes.com
SUMMARY:Avalanche Awareness Night at FREIGHT
DESCRIPTION:Join Lake County Search & Rescue (LCSAR) and a local Colorado Avalanche Information Center (CAIC) Forecaster to learn the fundamentals of avalanche safety and how to make safer choices in the backcountry\, with a focus on the mountains around Lake County. \nThere will be a presentation and Q&A so come prepared with questions about snow and avalanches! \nAlso! Free pizza provided and drinks available for purchase. \nSaturday\, December 6\, 2025 \nBegins at 5:30PM
URL:https://www.leadvilletwinlakes.com/event/avalanche-awareness-night-at-freight/
LOCATION:FREIGHT\, 320 E. 9th Street\, Leadville\, CO\, 80461\, United States
CATEGORIES:Classes & Programs,Do Leadville - Twin Lakes Right Events
ATTACH;FMTTYPE=image/jpeg:https://www.leadvilletwinlakes.com/wp-content/uploads/2025/11/Avalanche-Aware-Night.jpeg
END:VEVENT
BEGIN:VEVENT
DTSTART;TZID=America/Denver:20251211T160000
DTEND;TZID=America/Denver:20251211T190000
DTSTAMP:20260422T044848
CREATED:20260320T174107Z
LAST-MODIFIED:20260320T174107Z
UID:10001008-1765468800-1765479600@www.leadvilletwinlakes.com
SUMMARY:Winter Sauna & Book Club at FREIGHT's Boxcar Bar
DESCRIPTION:Thursday\, December 11\, 2025 at the Boxcar Bar at FREIGHT \nSauna 4-7PM – Book Chat 5-6PM \nBook: Spinning Silver by Naomi Novik \nJoin us this winter for sauna\, snow rolls\, cold plunges\, and a cozy book chat.\nFREIGHT and Sunshine Saunas will be hosting hour-long sauna sessions from 4–7 PM\, with 6 spots available at the top of each hour.\nOur book club meets from 5–6 PM and is open to anyone who wants to join. \nReserve your space ahead of time to ensure your time slot! Click here to reserve!
URL:https://www.leadvilletwinlakes.com/event/winter-sauna-book-club-at-freights-boxcar-bar/
LOCATION:FREIGHT\, 320 E. 9th Street\, Leadville\, CO\, 80461\, United States
CATEGORIES:Classes & Programs
ATTACH;FMTTYPE=image/png:https://www.leadvilletwinlakes.com/wp-content/uploads/2025/11/Book-Club.png
END:VEVENT
BEGIN:VEVENT
DTSTART;TZID=America/Denver:20251211T183000
DTEND;TZID=America/Denver:20251211T203000
DTSTAMP:20260422T044848
CREATED:20260320T174107Z
LAST-MODIFIED:20260320T174107Z
UID:10001009-1765477800-1765485000@www.leadvilletwinlakes.com
SUMMARY:Victorian Ghost Stories at the Lake County Public Library
DESCRIPTION:Learn how the tradition of ghost stories started and share your own spooky tales too! Cider and snacks provided \nThursday\, December 11th from 6:30pm to 8:30pm at the Lake County Public Library
URL:https://www.leadvilletwinlakes.com/event/victorian-ghost-stories-at-the-lake-county-public-library/
LOCATION:Lake County Public Library\, 1115 Harrison Ave\, Leadville\, CO\, 80461\, United States
CATEGORIES:Classes & Programs
ATTACH;FMTTYPE=image/png:https://www.leadvilletwinlakes.com/wp-content/uploads/2025/11/Ghost-Stories.png
END:VEVENT
BEGIN:VEVENT
DTSTART;TZID=America/Denver:20251212T150000
DTEND;TZID=America/Denver:20251212T200000
DTSTAMP:20260422T044848
CREATED:20260320T174107Z
LAST-MODIFIED:20260320T174107Z
UID:10001055-1765551600-1765569600@www.leadvilletwinlakes.com
SUMMARY:Make Your Own Ornament Glass Blowing Workshop at Silver Lama Market & Eatery
DESCRIPTION:Come make an icicle ornament with us!!!! Last minute workshop to get those creative juices flowing for the winter season! With the one and only Johnny from @fetchkoglassandgems !!!\n$50 total but only a $10 deposit is needed to hold your spot. Pay in full to Johnny at the event!!!\n\nWorkshop is located at the Silver Llama Market & Eatery – 615 Harrison\nFriday Dec 12 \, 30 minute appointments book online at: irismoonemporium.com/book-an-appointment ‘group class’
URL:https://www.leadvilletwinlakes.com/event/make-your-own-ornament-glass-blowing-workshop-at-silver-lama-market-eatery/
LOCATION:The Silver Llama Market & Eatery\, 615 Harrison Ave (Unit B)\, Leadville\, CO\, 80461\, United States
CATEGORIES:Classes & Programs
ATTACH;FMTTYPE=image/jpeg:https://www.leadvilletwinlakes.com/wp-content/uploads/2025/12/Glass-blowing-ornament-making.jpg
END:VEVENT
BEGIN:VEVENT
DTSTART;TZID=America/Denver:20251218T180000
DTEND;TZID=America/Denver:20251218T203000
DTSTAMP:20260422T044848
CREATED:20260320T174107Z
LAST-MODIFIED:20260320T174107Z
UID:10001031-1766080800-1766089800@www.leadvilletwinlakes.com
SUMMARY:Cribbage Night at FREIGHT's Boxcar Bar
DESCRIPTION:COME PLAY CRIBBAGE @ The FREIGHT Boxcar Bar \nThursday\, December 18\, 2025 \n6:00 – 8:30 PM \nNo Cost\, No Experience Necessary \nCribbage is a mix of cards\, clever strategy\, and a little luck—players score points\, move their pegs\, and race each other around the board. It’s competitive\, social\, and surprisingly addictive. At FREIGHT\, it’s also a nod to the old Leadville gathering halls\, where neighbors came together to play cards\, swap stories\, and unwind. Join us in the Boxcar Bar for a game that brings our community together just like it did in the historic depot days. \nEmail Amos @ amoschaim2@gmail.com if you have any questions.
URL:https://www.leadvilletwinlakes.com/event/cribbage-night-at-freights-boxcar-bar/
LOCATION:FREIGHT\, 320 E. 9th Street\, Leadville\, CO\, 80461\, United States
CATEGORIES:Classes & Programs
ATTACH;FMTTYPE=image/png:https://www.leadvilletwinlakes.com/wp-content/uploads/2025/12/Freight-Cribbage-Night.png
END:VEVENT
END:VCALENDAR