BEGIN:VCALENDAR
VERSION:2.0
PRODID:-//Visit Leadville Twin Lakes - ECPv6.15.16//NONSGML v1.0//EN
CALSCALE:GREGORIAN
METHOD:PUBLISH
X-ORIGINAL-URL:https://www.leadvilletwinlakes.com
X-WR-CALDESC:Events for Visit Leadville Twin Lakes
REFRESH-INTERVAL;VALUE=DURATION:PT1H
X-Robots-Tag:noindex
X-PUBLISHED-TTL:PT1H
BEGIN:VTIMEZONE
TZID:America/Denver
BEGIN:DAYLIGHT
TZOFFSETFROM:-0700
TZOFFSETTO:-0600
TZNAME:MDT
DTSTART:20240310T090000
END:DAYLIGHT
BEGIN:STANDARD
TZOFFSETFROM:-0600
TZOFFSETTO:-0700
TZNAME:MST
DTSTART:20241103T080000
END:STANDARD
BEGIN:DAYLIGHT
TZOFFSETFROM:-0700
TZOFFSETTO:-0600
TZNAME:MDT
DTSTART:20250309T090000
END:DAYLIGHT
BEGIN:STANDARD
TZOFFSETFROM:-0600
TZOFFSETTO:-0700
TZNAME:MST
DTSTART:20251102T080000
END:STANDARD
BEGIN:DAYLIGHT
TZOFFSETFROM:-0700
TZOFFSETTO:-0600
TZNAME:MDT
DTSTART:20260308T090000
END:DAYLIGHT
BEGIN:STANDARD
TZOFFSETFROM:-0600
TZOFFSETTO:-0700
TZNAME:MST
DTSTART:20261101T080000
END:STANDARD
END:VTIMEZONE
BEGIN:VEVENT
DTSTART;TZID=America/Denver:20250816T100000
DTEND;TZID=America/Denver:20250816T100000
DTSTAMP:20260424T112818
CREATED:20260320T174113Z
LAST-MODIFIED:20260320T174113Z
UID:10000268-1755338400-1755338400@www.leadvilletwinlakes.com
SUMMARY:Weekend Flow Yoga at Ale Yak
DESCRIPTION:Saturday morning yoga with Amy Donnon at Ale Yak \n10am start \nSavor the season as you enjoy the warmth of alpine summer morning through yoga. \n$15 drop-in or use your class pass from Blue Earth Yoga
URL:https://www.leadvilletwinlakes.com/event/saturday-yoga-weekend-flow-at-ale-yak/2025-08-16/
LOCATION:Ale Yak Beer & Food Garden\, 2017 1/2 N. Poplar Street\, Leadville\, CO\, 80461\, United States
CATEGORIES:Classes & Programs
ATTACH;FMTTYPE=image/jpeg:https://www.leadvilletwinlakes.com/wp-content/uploads/2025/06/Blue-Earth-Sat-Yoga.jpg
ORGANIZER;CN="Blue Earth Yoga":MAILTO:blueearthcolorado@yahoo.com
END:VEVENT
BEGIN:VEVENT
DTSTART;TZID=America/Denver:20250816T100000
DTEND;TZID=America/Denver:20250816T140000
DTSTAMP:20260424T112818
CREATED:20260320T174111Z
LAST-MODIFIED:20260320T174111Z
UID:10000504-1755338400-1755352800@www.leadvilletwinlakes.com
SUMMARY:Paint with Ponies at Andrew's Heavenly Horse Rescue
DESCRIPTION:Come to Andrew’s Heavenly Horse Rescue and paint a Horse Shoe surrounded by our rescues on Saturday\, August 16th from 10 to 2. \nAll funds go directly to our rescue animals and their needs. Spaces are limited so please be sure to register and pay the class fee to secure your spot. \nTo register reach out via message on Facebook
URL:https://www.leadvilletwinlakes.com/event/paint-with-ponies-at-andrews-heavenly-horse-rescue/
LOCATION:Andrew’s Heavenly Horse Rescue\, 142 County Road 11\, Leadville\, CO\, 80461\, United States
CATEGORIES:Classes & Programs
ATTACH;FMTTYPE=image/jpeg:https://www.leadvilletwinlakes.com/wp-content/uploads/2025/08/paint-with-ponies.jpg
END:VEVENT
END:VCALENDAR