BEGIN:VCALENDAR
VERSION:2.0
PRODID:-//Visit Leadville Twin Lakes - ECPv6.15.16//NONSGML v1.0//EN
CALSCALE:GREGORIAN
METHOD:PUBLISH
X-ORIGINAL-URL:https://www.leadvilletwinlakes.com
X-WR-CALDESC:Events for Visit Leadville Twin Lakes
REFRESH-INTERVAL;VALUE=DURATION:PT1H
X-Robots-Tag:noindex
X-PUBLISHED-TTL:PT1H
BEGIN:VTIMEZONE
TZID:America/Denver
BEGIN:DAYLIGHT
TZOFFSETFROM:-0700
TZOFFSETTO:-0600
TZNAME:MDT
DTSTART:20240310T090000
END:DAYLIGHT
BEGIN:STANDARD
TZOFFSETFROM:-0600
TZOFFSETTO:-0700
TZNAME:MST
DTSTART:20241103T080000
END:STANDARD
BEGIN:DAYLIGHT
TZOFFSETFROM:-0700
TZOFFSETTO:-0600
TZNAME:MDT
DTSTART:20250309T090000
END:DAYLIGHT
BEGIN:STANDARD
TZOFFSETFROM:-0600
TZOFFSETTO:-0700
TZNAME:MST
DTSTART:20251102T080000
END:STANDARD
BEGIN:DAYLIGHT
TZOFFSETFROM:-0700
TZOFFSETTO:-0600
TZNAME:MDT
DTSTART:20260308T090000
END:DAYLIGHT
BEGIN:STANDARD
TZOFFSETFROM:-0600
TZOFFSETTO:-0700
TZNAME:MST
DTSTART:20261101T080000
END:STANDARD
END:VTIMEZONE
BEGIN:VEVENT
DTSTART;TZID=America/Denver:20250823T090000
DTEND;TZID=America/Denver:20250823T120000
DTSTAMP:20260424T112900
CREATED:20260320T174110Z
LAST-MODIFIED:20260320T174110Z
UID:10000505-1755939600-1755950400@www.leadvilletwinlakes.com
SUMMARY:Interlaken Fire Scar Tour
DESCRIPTION:Arkansas River Collaborative Watershed and GARNA –  Greater Arkansas River Nature Association  are excited to be hosting another educational events!\n\nThe tour will cross the burn area\, so participants should be prepared to get dirty! After the burn area tour\, participants will have the option of continuing the hike to the historic Interlaken Resort site or return to the trailhead. \n\n\nJoin us on a guided tour through the Interlaken Fire burn area to learn how we’re working with partners to protect the Twin Lakes ecosystem from post-fire erosion and flooding. We’ll also discuss why this fire was less destructive than it could’ve been.\n\n\n\nWear clothes that you don’t mind getting messy – this tour crosses burn scar terrain.\nSpace is limited – registration required.\n\n\nActivity Level 3: Uneven terrain\, moderate elevation\, 2–4 hrs\n\n\n\nFind more information & sign up here: https://garna.org/calendar/interlaken-fire-tour/
URL:https://www.leadvilletwinlakes.com/event/8936/
LOCATION:Interlaken Trailhead\, County Road 25\, Twin Lakes\, CO\, 81251\, United States
CATEGORIES:Do Leadville - Twin Lakes Right Events,Classes & Programs
ATTACH;FMTTYPE=image/jpeg:https://www.leadvilletwinlakes.com/wp-content/uploads/2025/08/Interlaken.jpg
ORGANIZER;CN="GARNA":MAILTO:info@garna.org
END:VEVENT
BEGIN:VEVENT
DTSTART;TZID=America/Denver:20250823T100000
DTEND;TZID=America/Denver:20250823T100000
DTSTAMP:20260424T112900
CREATED:20260320T174113Z
LAST-MODIFIED:20260320T174113Z
UID:10000269-1755943200-1755943200@www.leadvilletwinlakes.com
SUMMARY:Weekend Flow Yoga at Ale Yak
DESCRIPTION:Saturday morning yoga with Amy Donnon at Ale Yak \n10am start \nSavor the season as you enjoy the warmth of alpine summer morning through yoga. \n$15 drop-in or use your class pass from Blue Earth Yoga
URL:https://www.leadvilletwinlakes.com/event/saturday-yoga-weekend-flow-at-ale-yak/2025-08-23/
LOCATION:Ale Yak Beer & Food Garden\, 2017 1/2 N. Poplar Street\, Leadville\, CO\, 80461\, United States
CATEGORIES:Classes & Programs
ATTACH;FMTTYPE=image/jpeg:https://www.leadvilletwinlakes.com/wp-content/uploads/2025/06/Blue-Earth-Sat-Yoga.jpg
ORGANIZER;CN="Blue Earth Yoga":MAILTO:blueearthcolorado@yahoo.com
END:VEVENT
BEGIN:VEVENT
DTSTART;TZID=America/Denver:20250823T203000
DTEND;TZID=America/Denver:20250823T203000
DTSTAMP:20260424T112900
CREATED:20260320T174110Z
LAST-MODIFIED:20260320T174110Z
UID:10000495-1755981000-1755981000@www.leadvilletwinlakes.com
SUMMARY:Milky Way Summer Star Party and Telescope Night at Twin Lakes
DESCRIPTION:Join US Forest Service staff Leo Pareti and Joan Veilleux along with special guests Mike Brooks and Aaron Watson for 2 days of Dark Sky Programming. \nA Milky Way Summer Star Party in Twin Lakes! \nJoin us for mythical Greek stories\, a guided constellation tour and gaze through advanced telescopes to see deep sky objects! \nMeet at the Red Rooster Boating/Fishing Site on Hwy 82 at 8:30pm on Friday\, August 22nd and Saturday\, August 23rd \nPlease dress in warm layers\, wear sturdy shoes and bring a camp chair or blanket to sit on. If you have a headlamp with a red or low-color setting bring it too! \nSpecial Guests: \nMike Brooks – Visiting from the Gunnison Valley Observatory. Mike has been involved with GVO since its inception. He is an emeritus Western Colorado University Professor of Communication and has been an avid amateur astronomer for many years. He owes his lifelong interest in space to his uncle Jim\, an Apollo 11 manager. \nAaron Watson – Visiting from the International Dark Sky Community of Paonia Colorado. Aaron is a DarkSky Colorado Certification Specialist and leads the Colorado Dark Sky Certification Mentor Program. Residing in Paonia\, Aaron was instrumental in Paonia becoming a certified International Dark Sky Community\, and loves experiencing the natural night sky through observing and night photography. Aaron will be giving a special 20-30 minute talk at the beginning of the program each night. \nMeet at Red Rooster Boat Ramp in Twin Lakes
URL:https://www.leadvilletwinlakes.com/event/milky-way-summer-star-party-and-telescope-night-at-twin-lakes/2025-08-23/
LOCATION:Red Rooster Boat Ramp – Twin Lakes
CATEGORIES:Classes & Programs
ATTACH;FMTTYPE=image/jpeg:https://www.leadvilletwinlakes.com/wp-content/uploads/2025/08/img20250804_11312035.jpg
END:VEVENT
END:VCALENDAR