BEGIN:VCALENDAR
VERSION:2.0
PRODID:-//Visit Leadville Twin Lakes - ECPv6.15.16//NONSGML v1.0//EN
CALSCALE:GREGORIAN
METHOD:PUBLISH
X-ORIGINAL-URL:https://www.leadvilletwinlakes.com
X-WR-CALDESC:Events for Visit Leadville Twin Lakes
REFRESH-INTERVAL;VALUE=DURATION:PT1H
X-Robots-Tag:noindex
X-PUBLISHED-TTL:PT1H
BEGIN:VTIMEZONE
TZID:America/Denver
BEGIN:DAYLIGHT
TZOFFSETFROM:-0700
TZOFFSETTO:-0600
TZNAME:MDT
DTSTART:20240310T090000
END:DAYLIGHT
BEGIN:STANDARD
TZOFFSETFROM:-0600
TZOFFSETTO:-0700
TZNAME:MST
DTSTART:20241103T080000
END:STANDARD
BEGIN:DAYLIGHT
TZOFFSETFROM:-0700
TZOFFSETTO:-0600
TZNAME:MDT
DTSTART:20250309T090000
END:DAYLIGHT
BEGIN:STANDARD
TZOFFSETFROM:-0600
TZOFFSETTO:-0700
TZNAME:MST
DTSTART:20251102T080000
END:STANDARD
BEGIN:DAYLIGHT
TZOFFSETFROM:-0700
TZOFFSETTO:-0600
TZNAME:MDT
DTSTART:20260308T090000
END:DAYLIGHT
BEGIN:STANDARD
TZOFFSETFROM:-0600
TZOFFSETTO:-0700
TZNAME:MST
DTSTART:20261101T080000
END:STANDARD
END:VTIMEZONE
BEGIN:VEVENT
DTSTART;TZID=America/Denver:20250927T100000
DTEND;TZID=America/Denver:20250927T100000
DTSTAMP:20260424T100946
CREATED:20260320T174113Z
LAST-MODIFIED:20260320T174113Z
UID:10000274-1758967200-1758967200@www.leadvilletwinlakes.com
SUMMARY:Weekend Flow Yoga at Ale Yak
DESCRIPTION:Saturday morning yoga with Amy Donnon at Ale Yak \n10am start \nSavor the season as you enjoy the warmth of alpine summer morning through yoga. \n$15 drop-in or use your class pass from Blue Earth Yoga
URL:https://www.leadvilletwinlakes.com/event/saturday-yoga-weekend-flow-at-ale-yak/2025-09-27/
LOCATION:Ale Yak Beer & Food Garden\, 2017 1/2 N. Poplar Street\, Leadville\, CO\, 80461\, United States
CATEGORIES:Classes & Programs
ATTACH;FMTTYPE=image/jpeg:https://www.leadvilletwinlakes.com/wp-content/uploads/2025/06/Blue-Earth-Sat-Yoga.jpg
ORGANIZER;CN="Blue Earth Yoga":MAILTO:blueearthcolorado@yahoo.com
END:VEVENT
BEGIN:VEVENT
DTSTART;TZID=America/Denver:20250927T140000
DTEND;TZID=America/Denver:20250927T160000
DTSTAMP:20260424T100946
CREATED:20260320T174109Z
LAST-MODIFIED:20260320T174109Z
UID:10000562-1758981600-1758988800@www.leadvilletwinlakes.com
SUMMARY:Haunted Leadville Book Release Event at the National Mining Hall of Fame & Museum
DESCRIPTION:Join us at the National Mining Hall of Fame & Museum for a chilling reading from the new book “Haunted Leadville” by Erin Taylor \nSaturday\, September 27th 2pm to 4pm \nFree!
URL:https://www.leadvilletwinlakes.com/event/haunted-leadville-book-release-event-at-the-national-mining-hall-of-fame-museum/
LOCATION:National Mining Hall of Fame & Museum\, 120 W. 9th Street\, Leadville\, CO\, 80461\, United States
CATEGORIES:Classes & Programs
ATTACH;FMTTYPE=image/jpeg:https://www.leadvilletwinlakes.com/wp-content/uploads/2025/09/Book-signing_20250908_175329_0000.jpg
END:VEVENT
END:VCALENDAR