BEGIN:VCALENDAR
VERSION:2.0
PRODID:-//Visit Leadville Twin Lakes - ECPv6.15.16//NONSGML v1.0//EN
CALSCALE:GREGORIAN
METHOD:PUBLISH
X-ORIGINAL-URL:https://www.leadvilletwinlakes.com
X-WR-CALDESC:Events for Visit Leadville Twin Lakes
REFRESH-INTERVAL;VALUE=DURATION:PT1H
X-Robots-Tag:noindex
X-PUBLISHED-TTL:PT1H
BEGIN:VTIMEZONE
TZID:America/Denver
BEGIN:DAYLIGHT
TZOFFSETFROM:-0700
TZOFFSETTO:-0600
TZNAME:MDT
DTSTART:20240310T090000
END:DAYLIGHT
BEGIN:STANDARD
TZOFFSETFROM:-0600
TZOFFSETTO:-0700
TZNAME:MST
DTSTART:20241103T080000
END:STANDARD
BEGIN:DAYLIGHT
TZOFFSETFROM:-0700
TZOFFSETTO:-0600
TZNAME:MDT
DTSTART:20250309T090000
END:DAYLIGHT
BEGIN:STANDARD
TZOFFSETFROM:-0600
TZOFFSETTO:-0700
TZNAME:MST
DTSTART:20251102T080000
END:STANDARD
BEGIN:DAYLIGHT
TZOFFSETFROM:-0700
TZOFFSETTO:-0600
TZNAME:MDT
DTSTART:20260308T090000
END:DAYLIGHT
BEGIN:STANDARD
TZOFFSETFROM:-0600
TZOFFSETTO:-0700
TZNAME:MST
DTSTART:20261101T080000
END:STANDARD
END:VTIMEZONE
BEGIN:VEVENT
DTSTART;TZID=America/Denver:20251202T183000
DTEND;TZID=America/Denver:20251202T203000
DTSTAMP:20260422T065127
CREATED:20260320T174107Z
LAST-MODIFIED:20260320T174107Z
UID:10001010-1764700200-1764707400@www.leadvilletwinlakes.com
SUMMARY:Ski & Board Wax Night at the Lake County Public Library
DESCRIPTION:Come to the Lake County Public Library to get your equipment prepared for the season! \nMatt will give a demo closer to 6:30 for those who would like to learn how to hot wax their skis or board. Or if you already know how drop in between 6:30 and 8:30 for DIY ski and board waxing in the AMAX Room. All wax and waxing equipment will be supplied by the Library and there will be popcorn and tea!
URL:https://www.leadvilletwinlakes.com/event/ski-board-wax-night-at-the-lake-county-public-library/
LOCATION:Lake County Public Library\, 1115 Harrison Ave\, Leadville\, CO\, 80461\, United States
CATEGORIES:Classes & Programs
ATTACH;FMTTYPE=image/png:https://www.leadvilletwinlakes.com/wp-content/uploads/2025/11/ski-wax-night-2025.png
END:VEVENT
END:VCALENDAR