BEGIN:VCALENDAR
VERSION:2.0
PRODID:-//Visit Leadville Twin Lakes - ECPv6.15.16//NONSGML v1.0//EN
CALSCALE:GREGORIAN
METHOD:PUBLISH
X-ORIGINAL-URL:https://www.leadvilletwinlakes.com
X-WR-CALDESC:Events for Visit Leadville Twin Lakes
REFRESH-INTERVAL;VALUE=DURATION:PT1H
X-Robots-Tag:noindex
X-PUBLISHED-TTL:PT1H
BEGIN:VTIMEZONE
TZID:America/Denver
BEGIN:DAYLIGHT
TZOFFSETFROM:-0700
TZOFFSETTO:-0600
TZNAME:MDT
DTSTART:20250309T090000
END:DAYLIGHT
BEGIN:STANDARD
TZOFFSETFROM:-0600
TZOFFSETTO:-0700
TZNAME:MST
DTSTART:20251102T080000
END:STANDARD
BEGIN:DAYLIGHT
TZOFFSETFROM:-0700
TZOFFSETTO:-0600
TZNAME:MDT
DTSTART:20260308T090000
END:DAYLIGHT
BEGIN:STANDARD
TZOFFSETFROM:-0600
TZOFFSETTO:-0700
TZNAME:MST
DTSTART:20261101T080000
END:STANDARD
BEGIN:DAYLIGHT
TZOFFSETFROM:-0700
TZOFFSETTO:-0600
TZNAME:MDT
DTSTART:20270314T090000
END:DAYLIGHT
BEGIN:STANDARD
TZOFFSETFROM:-0600
TZOFFSETTO:-0700
TZNAME:MST
DTSTART:20271107T080000
END:STANDARD
END:VTIMEZONE
BEGIN:VEVENT
DTSTART;TZID=America/Denver:20260110T160000
DTEND;TZID=America/Denver:20260110T180000
DTSTAMP:20260422T091751
CREATED:20260320T174106Z
LAST-MODIFIED:20260320T174106Z
UID:10001142-1768060800-1768068000@www.leadvilletwinlakes.com
SUMMARY:Paramparā Yoga Mentorship Circle at Blue Earth Yoga
DESCRIPTION:Discover the next incarnation of Yoga Education\, Paramparā Yoga Mentorship Circle. \nArrive with questions. Leave with answers. If you want to know all about Paramparā Yoga Mentorship Circle\, do not miss this FREE 2-hour Introductory event with exciting gifts and announcements. \nSaturday\, January 10th\, 4pm to 6pm at Blue Earth Yoga \nSign Up Online
URL:https://www.leadvilletwinlakes.com/event/parampara-yoga-mentorship-circle-at-blue-earth-yoga/
LOCATION:Blue Earth Yoga\, 201 W. 6th Street\, Leadville\, CO\, 80461\, United States
CATEGORIES:Classes & Programs
ATTACH;FMTTYPE=image/jpeg:https://www.leadvilletwinlakes.com/wp-content/uploads/2025/12/Blue-Earth-Jan-2.jpg
END:VEVENT
END:VCALENDAR