BEGIN:VCALENDAR
VERSION:2.0
PRODID:-//Visit Leadville Twin Lakes - ECPv6.15.16//NONSGML v1.0//EN
CALSCALE:GREGORIAN
METHOD:PUBLISH
X-ORIGINAL-URL:https://www.leadvilletwinlakes.com
X-WR-CALDESC:Events for Visit Leadville Twin Lakes
REFRESH-INTERVAL;VALUE=DURATION:PT1H
X-Robots-Tag:noindex
X-PUBLISHED-TTL:PT1H
BEGIN:VTIMEZONE
TZID:America/Denver
BEGIN:DAYLIGHT
TZOFFSETFROM:-0700
TZOFFSETTO:-0600
TZNAME:MDT
DTSTART:20250309T090000
END:DAYLIGHT
BEGIN:STANDARD
TZOFFSETFROM:-0600
TZOFFSETTO:-0700
TZNAME:MST
DTSTART:20251102T080000
END:STANDARD
BEGIN:DAYLIGHT
TZOFFSETFROM:-0700
TZOFFSETTO:-0600
TZNAME:MDT
DTSTART:20260308T090000
END:DAYLIGHT
BEGIN:STANDARD
TZOFFSETFROM:-0600
TZOFFSETTO:-0700
TZNAME:MST
DTSTART:20261101T080000
END:STANDARD
BEGIN:DAYLIGHT
TZOFFSETFROM:-0700
TZOFFSETTO:-0600
TZNAME:MDT
DTSTART:20270314T090000
END:DAYLIGHT
BEGIN:STANDARD
TZOFFSETFROM:-0600
TZOFFSETTO:-0700
TZNAME:MST
DTSTART:20271107T080000
END:STANDARD
END:VTIMEZONE
BEGIN:VEVENT
DTSTART;VALUE=DATE:20260112
DTEND;VALUE=DATE:20260210
DTSTAMP:20260422T045426
CREATED:20260320T174106Z
LAST-MODIFIED:20260320T174106Z
UID:10001145-1768204800-1770663600@www.leadvilletwinlakes.com
SUMMARY:28 Days of Yoga Challenge Begins at Blue Earth Yoga
DESCRIPTION:Attend three or more yoga classes each week for four weeks\, from January 12th through February 9th\nAll who qualify can enter a drawing for more yoga\, a massage or a natal chart reading
URL:https://www.leadvilletwinlakes.com/event/28-days-of-yoga-challenge-begins-at-blue-earth-yoga/
LOCATION:Blue Earth Yoga\, 201 W. 6th Street\, Leadville\, CO\, 80461\, United States
CATEGORIES:Classes & Programs
ATTACH;FMTTYPE=image/png:https://www.leadvilletwinlakes.com/wp-content/uploads/2026/01/IMG_3961.png
ORGANIZER;CN="Blue Earth Yoga":MAILTO:blueearthcolorado@yahoo.com
END:VEVENT
BEGIN:VEVENT
DTSTART;TZID=America/Denver:20260116T173000
DTEND;TZID=America/Denver:20260116T173000
DTSTAMP:20260422T045426
CREATED:20260320T174106Z
LAST-MODIFIED:20260320T174106Z
UID:10001141-1768584600-1768584600@www.leadvilletwinlakes.com
SUMMARY:Vinyasa with DJ Silk Arithmetic at Blue Earth Yoga
DESCRIPTION:Vinyasa flow complimented by deep house groves! Add the energy of fresh beats to your Friday flow….\nStay for the after party!!  Celebrate 17 years of Blue Earth! \nFriday\, January 16th at 5:30pm \nSign Up Online
URL:https://www.leadvilletwinlakes.com/event/vinyasa-with-dj-silk-arithmetic-at-blue-earth-yoga/
LOCATION:Blue Earth Yoga\, 201 W. 6th Street\, Leadville\, CO\, 80461\, United States
CATEGORIES:Classes & Programs
ATTACH;FMTTYPE=image/jpeg:https://www.leadvilletwinlakes.com/wp-content/uploads/2025/12/Blue-Earth-Jan-scaled.jpg
END:VEVENT
END:VCALENDAR