BEGIN:VCALENDAR
VERSION:2.0
PRODID:-//Visit Leadville Twin Lakes - ECPv6.15.16//NONSGML v1.0//EN
CALSCALE:GREGORIAN
METHOD:PUBLISH
X-ORIGINAL-URL:https://www.leadvilletwinlakes.com
X-WR-CALDESC:Events for Visit Leadville Twin Lakes
REFRESH-INTERVAL;VALUE=DURATION:PT1H
X-Robots-Tag:noindex
X-PUBLISHED-TTL:PT1H
BEGIN:VTIMEZONE
TZID:America/Denver
BEGIN:DAYLIGHT
TZOFFSETFROM:-0700
TZOFFSETTO:-0600
TZNAME:MDT
DTSTART:20250309T090000
END:DAYLIGHT
BEGIN:STANDARD
TZOFFSETFROM:-0600
TZOFFSETTO:-0700
TZNAME:MST
DTSTART:20251102T080000
END:STANDARD
BEGIN:DAYLIGHT
TZOFFSETFROM:-0700
TZOFFSETTO:-0600
TZNAME:MDT
DTSTART:20260308T090000
END:DAYLIGHT
BEGIN:STANDARD
TZOFFSETFROM:-0600
TZOFFSETTO:-0700
TZNAME:MST
DTSTART:20261101T080000
END:STANDARD
BEGIN:DAYLIGHT
TZOFFSETFROM:-0700
TZOFFSETTO:-0600
TZNAME:MDT
DTSTART:20270314T090000
END:DAYLIGHT
BEGIN:STANDARD
TZOFFSETFROM:-0600
TZOFFSETTO:-0700
TZNAME:MST
DTSTART:20271107T080000
END:STANDARD
END:VTIMEZONE
BEGIN:VEVENT
DTSTART;TZID=America/Denver:20260218T140000
DTEND;TZID=America/Denver:20260218T180000
DTSTAMP:20260422T045349
CREATED:20260320T174104Z
LAST-MODIFIED:20260320T174104Z
UID:10001183-1771423200-1771437600@www.leadvilletwinlakes.com
SUMMARY:Glass Blowing Class at Silver Llama Market & Eatery
DESCRIPTION:Come to the Silver Llama Market & Eatery for a glass blowing class with Johnny from Fetchko Glass out of Salida @fetchkoglassandgems \nCreate your own glass heart pendant in a 30 minute session. \nEvent sponsored by Iris Moon Emporium. Singles and couples welcome\, must book online ahead of time!Book online: irismoonemporium.com/book-an-appointment (workshops) \n$50 total\, non-refundable $10 due at booking \nCreate something special for yourself or a loved on!
URL:https://www.leadvilletwinlakes.com/event/glass-blowing-class-at-silver-llama-market-eatery/
LOCATION:The Silver Llama Market & Eatery\, 615 Harrison Ave (Unit B)\, Leadville\, CO\, 80461\, United States
CATEGORIES:Classes & Programs
ATTACH;FMTTYPE=image/jpeg:https://www.leadvilletwinlakes.com/wp-content/uploads/2026/02/Burning-Love.jpg
END:VEVENT
END:VCALENDAR