BEGIN:VCALENDAR
VERSION:2.0
PRODID:-//Visit Leadville Twin Lakes - ECPv6.15.16//NONSGML v1.0//EN
CALSCALE:GREGORIAN
METHOD:PUBLISH
X-WR-CALNAME:Visit Leadville Twin Lakes
X-ORIGINAL-URL:https://www.leadvilletwinlakes.com
X-WR-CALDESC:Events for Visit Leadville Twin Lakes
REFRESH-INTERVAL;VALUE=DURATION:PT1H
X-Robots-Tag:noindex
X-PUBLISHED-TTL:PT1H
BEGIN:VTIMEZONE
TZID:America/Denver
BEGIN:DAYLIGHT
TZOFFSETFROM:-0700
TZOFFSETTO:-0600
TZNAME:MDT
DTSTART:20250309T090000
END:DAYLIGHT
BEGIN:STANDARD
TZOFFSETFROM:-0600
TZOFFSETTO:-0700
TZNAME:MST
DTSTART:20251102T080000
END:STANDARD
BEGIN:DAYLIGHT
TZOFFSETFROM:-0700
TZOFFSETTO:-0600
TZNAME:MDT
DTSTART:20260308T090000
END:DAYLIGHT
BEGIN:STANDARD
TZOFFSETFROM:-0600
TZOFFSETTO:-0700
TZNAME:MST
DTSTART:20261101T080000
END:STANDARD
BEGIN:DAYLIGHT
TZOFFSETFROM:-0700
TZOFFSETTO:-0600
TZNAME:MDT
DTSTART:20270314T090000
END:DAYLIGHT
BEGIN:STANDARD
TZOFFSETFROM:-0600
TZOFFSETTO:-0700
TZNAME:MST
DTSTART:20271107T080000
END:STANDARD
END:VTIMEZONE
BEGIN:VEVENT
DTSTART;TZID=America/Denver:20260418T173000
DTEND;TZID=America/Denver:20260418T173000
DTSTAMP:20260420T130030
CREATED:20260416T152539Z
LAST-MODIFIED:20260416T152539Z
UID:10001355-1776533400-1776533400@www.leadvilletwinlakes.com
SUMMARY:Live DJ & Vinyasa Yoga at Blue Earth
DESCRIPTION:Join the community as we flow to the rhythm of deep house beats. Hosted by Rachael Warner and DJ Silk Arithmetic. \nSaturday\, April 18th at 5:30pm \nBlue Earth Yoga & Salon \n201 W 6th Street \nClick here to sign up
URL:https://www.leadvilletwinlakes.com/event/live-dj-vinyasa-yoga-at-blue-earth/
LOCATION:Blue Earth Yoga\, 201 W. 6th Street\, Leadville\, CO\, 80461\, United States
CATEGORIES:Classes & Programs
ATTACH;FMTTYPE=image/jpeg:https://www.leadvilletwinlakes.com/wp-content/uploads/2026/04/Blue-Earth-Yoga.jpg
END:VEVENT
END:VCALENDAR