BEGIN:VCALENDAR
VERSION:2.0
PRODID:-//Visit Leadville Twin Lakes - ECPv6.15.16//NONSGML v1.0//EN
CALSCALE:GREGORIAN
METHOD:PUBLISH
X-ORIGINAL-URL:https://www.leadvilletwinlakes.com
X-WR-CALDESC:Events for Visit Leadville Twin Lakes
REFRESH-INTERVAL;VALUE=DURATION:PT1H
X-Robots-Tag:noindex
X-PUBLISHED-TTL:PT1H
BEGIN:VTIMEZONE
TZID:America/Denver
BEGIN:DAYLIGHT
TZOFFSETFROM:-0700
TZOFFSETTO:-0600
TZNAME:MDT
DTSTART:20240310T090000
END:DAYLIGHT
BEGIN:STANDARD
TZOFFSETFROM:-0600
TZOFFSETTO:-0700
TZNAME:MST
DTSTART:20241103T080000
END:STANDARD
BEGIN:DAYLIGHT
TZOFFSETFROM:-0700
TZOFFSETTO:-0600
TZNAME:MDT
DTSTART:20250309T090000
END:DAYLIGHT
BEGIN:STANDARD
TZOFFSETFROM:-0600
TZOFFSETTO:-0700
TZNAME:MST
DTSTART:20251102T080000
END:STANDARD
BEGIN:DAYLIGHT
TZOFFSETFROM:-0700
TZOFFSETTO:-0600
TZNAME:MDT
DTSTART:20260308T090000
END:DAYLIGHT
BEGIN:STANDARD
TZOFFSETFROM:-0600
TZOFFSETTO:-0700
TZNAME:MST
DTSTART:20261101T080000
END:STANDARD
END:VTIMEZONE
BEGIN:VEVENT
DTSTART;TZID=America/Denver:20250531T090000
DTEND;TZID=America/Denver:20250531T090000
DTSTAMP:20260425T080734
CREATED:20260320T174115Z
LAST-MODIFIED:20260320T174115Z
UID:10000067-1748682000-1748682000@www.leadvilletwinlakes.com
SUMMARY:Turquoise Lake 20K
DESCRIPTION:The Turquoise Lake 20K offers unparalleled mountain views as you run clockwise around scenic Turquoise Lake. The first 6.5 miles of the course consists of hilly paved road. The final 5.5 miles consist of single track dirt trail. \nProceeds benefit Leadville youth athletics and recreation (Children’s Fishing Day\, Nordic team\, etc). \n7:15am-8:30am: Pickup bib at Matchless Boat Ramp\n9:00am: Race Starts \nPrice: $40 ($45 May 24-31) \nClick Here to Register \nParking is extremely limited. We beg people to car pool. Rocky Mountain Rec charges a nominal day use fee per vehicle at Turquoise Lake. Anyone that is already staying in a Rocky Mountain Rec managed campground in the area does not need to pay this fee\, just be sure your hang-tag is displayed in your vehicle.
URL:https://www.leadvilletwinlakes.com/event/turquoise-lake-20k/
LOCATION:Turquoise Lake – Matchless Boat Ramp\, Leadville\, CO\, 80461\, United States
CATEGORIES:Race Events
ATTACH;FMTTYPE=image/jpeg:https://www.leadvilletwinlakes.com/wp-content/uploads/2025/05/Turquoise-Lake-20K.jpg
END:VEVENT
END:VCALENDAR