BEGIN:VCALENDAR
VERSION:2.0
PRODID:-//Visit Leadville Twin Lakes - ECPv6.15.16//NONSGML v1.0//EN
CALSCALE:GREGORIAN
METHOD:PUBLISH
X-ORIGINAL-URL:https://www.leadvilletwinlakes.com
X-WR-CALDESC:Events for Visit Leadville Twin Lakes
REFRESH-INTERVAL;VALUE=DURATION:PT1H
X-Robots-Tag:noindex
X-PUBLISHED-TTL:PT1H
BEGIN:VTIMEZONE
TZID:America/Denver
BEGIN:DAYLIGHT
TZOFFSETFROM:-0700
TZOFFSETTO:-0600
TZNAME:MDT
DTSTART:20240310T090000
END:DAYLIGHT
BEGIN:STANDARD
TZOFFSETFROM:-0600
TZOFFSETTO:-0700
TZNAME:MST
DTSTART:20241103T080000
END:STANDARD
BEGIN:DAYLIGHT
TZOFFSETFROM:-0700
TZOFFSETTO:-0600
TZNAME:MDT
DTSTART:20250309T090000
END:DAYLIGHT
BEGIN:STANDARD
TZOFFSETFROM:-0600
TZOFFSETTO:-0700
TZNAME:MST
DTSTART:20251102T080000
END:STANDARD
BEGIN:DAYLIGHT
TZOFFSETFROM:-0700
TZOFFSETTO:-0600
TZNAME:MDT
DTSTART:20260308T090000
END:DAYLIGHT
BEGIN:STANDARD
TZOFFSETFROM:-0600
TZOFFSETTO:-0700
TZNAME:MST
DTSTART:20261101T080000
END:STANDARD
END:VTIMEZONE
BEGIN:VEVENT
DTSTART;TZID=America/Denver:20251003T160000
DTEND;TZID=America/Denver:20251003T190000
DTSTAMP:20260422T152824
CREATED:20260320T174109Z
LAST-MODIFIED:20260320T174109Z
UID:10000549-1759507200-1759518000@www.leadvilletwinlakes.com
SUMMARY:Mocktails & Must Haves at Leadville Exchange
DESCRIPTION:Mocktails & Must-Haves at Leadville Exchange\n\n\nJoin us on October 3rd from 4–7PM for a fabulous evening with @perpetual.bliss.jewelry\n\n\nWe will have a permanent jewelry pop-up and mocktails available\, bring a friend!\n\n\nAll consignors present will be entered into our raffle. Spend $50 and get another entry!\nThis fall bag collection comes straight from Leadville’s very own luxury purse collector. We will be raffling off a gorgeous Coach bag\, and stay tuned for more sneak peeks from her amazing collection.\n\n\n(Permanent jewelry\, purse collector\, Leadville Colorado)
URL:https://www.leadvilletwinlakes.com/event/mocktails-must-haves-at-leadville-exchange/
LOCATION:Leadville Exchange\, 616 Harrison Ave\, Leadville\, CO\, 80461\, United States
ATTACH;FMTTYPE=image/jpeg:https://www.leadvilletwinlakes.com/wp-content/uploads/2025/09/mocktails-and-must-haves.jpg
END:VEVENT
END:VCALENDAR