BEGIN:VCALENDAR
VERSION:2.0
PRODID:-//Visit Leadville Twin Lakes - ECPv6.15.16//NONSGML v1.0//EN
CALSCALE:GREGORIAN
METHOD:PUBLISH
X-WR-CALNAME:Visit Leadville Twin Lakes
X-ORIGINAL-URL:https://www.leadvilletwinlakes.com
X-WR-CALDESC:Events for Visit Leadville Twin Lakes
REFRESH-INTERVAL;VALUE=DURATION:PT1H
X-Robots-Tag:noindex
X-PUBLISHED-TTL:PT1H
BEGIN:VTIMEZONE
TZID:America/Denver
BEGIN:DAYLIGHT
TZOFFSETFROM:-0700
TZOFFSETTO:-0600
TZNAME:MDT
DTSTART:20250309T090000
END:DAYLIGHT
BEGIN:STANDARD
TZOFFSETFROM:-0600
TZOFFSETTO:-0700
TZNAME:MST
DTSTART:20251102T080000
END:STANDARD
BEGIN:DAYLIGHT
TZOFFSETFROM:-0700
TZOFFSETTO:-0600
TZNAME:MDT
DTSTART:20260308T090000
END:DAYLIGHT
BEGIN:STANDARD
TZOFFSETFROM:-0600
TZOFFSETTO:-0700
TZNAME:MST
DTSTART:20261101T080000
END:STANDARD
BEGIN:DAYLIGHT
TZOFFSETFROM:-0700
TZOFFSETTO:-0600
TZNAME:MDT
DTSTART:20270314T090000
END:DAYLIGHT
BEGIN:STANDARD
TZOFFSETFROM:-0600
TZOFFSETTO:-0700
TZNAME:MST
DTSTART:20271107T080000
END:STANDARD
END:VTIMEZONE
BEGIN:VEVENT
DTSTART;TZID=America/Denver:20260503T160000
DTEND;TZID=America/Denver:20260503T160000
DTSTAMP:20260421T112116
CREATED:20260321T203133Z
LAST-MODIFIED:20260321T204024Z
UID:10001250-1777824000-1777824000@www.leadvilletwinlakes.com
SUMMARY:Savor the Tabor Fundraiser at Silver Dollar Saloon
DESCRIPTION:Savor the Tabor is back and we’re headed to the Caribbean! Join our chefs on a tropical culinary tour to benefit the Tabor Opera House Preservation Foundation!This multi-course gourmet meal at The Legendary Silver Dollar Saloon includes drink pairings. Savor is usually served buffet and family style with meat\, vegetables\, seafood\, and vegan and gluten-free options. \nOnly 65 seats available\, buy your tickets online today! Early bird price for this one-of-a-kind fundraiser is $135 per ticket before April 15. After April 15 the price increases to $150.Sponsored by Silver Dollar Saloon\, Treeline Kitchen and Stellar & SageCarnival theme! Inspired attire is welcome!
URL:https://www.leadvilletwinlakes.com/event/savor-the-tabor-fundraiser-at-silver-dollar-saloon/
LOCATION:Silver Dollar Saloon\, 315 Harrison Ave\, Leadville\, CO\, 80461\, United States
ATTACH;FMTTYPE=image/jpeg:https://www.leadvilletwinlakes.com/wp-content/uploads/2026/03/savor-the-tabor.jpg
END:VEVENT
END:VCALENDAR